BEGIN:VCALENDAR
METHOD:PUBLISH
PRODID:www-gzn-nat-fau-eu//Events//EN
VERSION:2.0
BEGIN:VEVENT
SUMMARY:FAU Information session: „Frag die Stips“ – exchange on 
 scholarships
UID:48b8-2779-6933-23943@www.gzn.nat.fau.de
DESCRIPTION:An Event of FAU Erlangen-Nürnberg Information Session: 
 “Frag die Stips” – An Exchange on Scholarship Opportunities FAU 
 information: https://www.fau.de/veranstaltungen/infoveranstaltung-frag
 -die-stips-austausch-zu-stipendienmoeglichkeiten/ &nbsp\; Have you eve
 r considered applying for a scholarship? If so\, our scholarship infor
 mation session is exactly the right place for you\, as there is someth
 ing for everyone! During the session\, we will provide an overview of 
 the scholarships offered by the 13 major German scholarship foundation
 s\, as well as the Germany Scholarship (Deutschlandstipendium) and add
 itional FAU scholarships. If you would like to learn more about schola
 rship opportunities and engage in dialogue with currently funded stude
 nts\, we warmly invite you to attend. Registration at: https://www.stu
 don.fau.de/studon/go/crs/6720187
DTSTART:20251203T180000Z
DTEND:20251203T193000Z
LOCATION:Senatssaal (KH 1.011) im Kollegienhaus\, Universitätsstraße
  15\, 91054 Erlangen
DTSTAMP:20260419T221311Z
END:VEVENT
END:VCALENDAR