BEGIN:VCALENDAR
METHOD:PUBLISH
PRODID:www-gzn-nat-fau-eu//Events//EN
VERSION:2.0
BEGIN:VEVENT
SUMMARY:Geokolloquium: A Geochemical Perspective on the 2021-2023 Erup
 tions of Fagradalsfjall (SW Iceland)
UID:040000008200E00074C5B7101A82E00800000000061F154B7D0ADA010000000000
 0000001000000076292B8E18E93B438E176CD8C9CA3075
DTSTART:20231106T000000Z
DTEND:20231106T000000Z
DTSTAMP:20260419T221529Z
END:VEVENT
END:VCALENDAR